BEGIN:VCALENDAR
VERSION:2.0
PRODID:-//7 Wonders Birding Tours - ECPv6.15.20//NONSGML v1.0//EN
CALSCALE:GREGORIAN
METHOD:PUBLISH
X-WR-CALNAME:7 Wonders Birding Tours
X-ORIGINAL-URL:https://7wondersbirding.com
X-WR-CALDESC:Events for 7 Wonders Birding Tours
REFRESH-INTERVAL;VALUE=DURATION:PT1H
X-Robots-Tag:noindex
X-PUBLISHED-TTL:PT1H
BEGIN:VTIMEZONE
TZID:America/Lima
BEGIN:STANDARD
TZOFFSETFROM:-0500
TZOFFSETTO:-0500
TZNAME:-05
DTSTART:20260101T000000
END:STANDARD
END:VTIMEZONE
BEGIN:VEVENT
DTSTART;VALUE=DATE:20270626
DTEND;VALUE=DATE:20270703
DTSTAMP:20260425T083126
CREATED:20200624T153611Z
LAST-MODIFIED:20260401T125752Z
UID:3961-1813968000-1814572799@7wondersbirding.com
SUMMARY:Uganda-Shoebill\, Gorilla and Chimpanzee in one week
DESCRIPTION:Name three things you want to see in Uganda! Easy\, right?\nShoebill\, Gorilla\, and Chimpanzee! \nBut all the birding trips there are so long and so expensive.\nWhat if you could see all three and only take 5 days off from work?\nThe price per day is high\, but time is money\, and in the end\, you will see your bucket list species at a fraction of the price of big birding companies.\nAdditionally\, you have a good shot at 23 of the Albertine Rift endemics\, many iconic mammals such as Leopard\, Lion\, Zebra\, Hyena\, Hippos\, Elephants\, Cape Buffalos\, and Bushbuck.\nCrowned Cranes\, Bateleurs\, and various species of Bee-eaters are other bird highlights. \nIt is possible to add an extension until July 7\, after the core trip\, for more birding and wildlife.\nCheck the complete itinerary in this link.
URL:https://7wondersbirding.com/calendar-tours/uganda-shoebill-gorilla-and-chimpanzee-in-one-week-2/
ATTACH;FMTTYPE=image/jpeg:https://7wondersbirding.com/wp-content/uploads/2020/03/Gorilla-Face.jpg
END:VEVENT
END:VCALENDAR