BEGIN:VCALENDAR
VERSION:2.0
PRODID:-//7 Wonders Birding Tours - ECPv6.15.20//NONSGML v1.0//EN
CALSCALE:GREGORIAN
METHOD:PUBLISH
X-WR-CALNAME:7 Wonders Birding Tours
X-ORIGINAL-URL:https://7wondersbirding.com
X-WR-CALDESC:Events for 7 Wonders Birding Tours
REFRESH-INTERVAL;VALUE=DURATION:PT1H
X-Robots-Tag:noindex
X-PUBLISHED-TTL:PT1H
BEGIN:VTIMEZONE
TZID:America/Lima
BEGIN:STANDARD
TZOFFSETFROM:-0500
TZOFFSETTO:-0500
TZNAME:-05
DTSTART:20190101T000000
END:STANDARD
END:VTIMEZONE
BEGIN:VTIMEZONE
TZID:UTC
BEGIN:STANDARD
TZOFFSETFROM:+0000
TZOFFSETTO:+0000
TZNAME:UTC
DTSTART:20200101T000000
END:STANDARD
END:VTIMEZONE
BEGIN:VTIMEZONE
TZID:Europe/Madrid
BEGIN:DAYLIGHT
TZOFFSETFROM:+0100
TZOFFSETTO:+0200
TZNAME:CEST
DTSTART:20210328T010000
END:DAYLIGHT
BEGIN:STANDARD
TZOFFSETFROM:+0200
TZOFFSETTO:+0100
TZNAME:CET
DTSTART:20211031T010000
END:STANDARD
BEGIN:DAYLIGHT
TZOFFSETFROM:+0100
TZOFFSETTO:+0200
TZNAME:CEST
DTSTART:20220327T010000
END:DAYLIGHT
BEGIN:STANDARD
TZOFFSETFROM:+0200
TZOFFSETTO:+0100
TZNAME:CET
DTSTART:20221030T010000
END:STANDARD
BEGIN:DAYLIGHT
TZOFFSETFROM:+0100
TZOFFSETTO:+0200
TZNAME:CEST
DTSTART:20230326T010000
END:DAYLIGHT
BEGIN:STANDARD
TZOFFSETFROM:+0200
TZOFFSETTO:+0100
TZNAME:CET
DTSTART:20231029T010000
END:STANDARD
END:VTIMEZONE
BEGIN:VEVENT
DTSTART;VALUE=DATE:20250119
DTEND;VALUE=DATE:20250124
DTSTAMP:20260425T085236
CREATED:20220420T113506Z
LAST-MODIFIED:20240710T174309Z
UID:4895-1737244800-1737676799@7wondersbirding.com
SUMMARY:Aardvark\, Bat-eared Fox and Aardwolf in South Africa.
DESCRIPTION:While most naturalists hit Kruger NP for the Big Five\, and the birders will end up in the Cape region for endemics and a pelagic on their first South Africa trip\, eventually a few weird animals in the mammal field guide will raise the question that you sooner or later will ask your local guide:\n“Can we see an Aardvark?”\n“Can we see a Pangolin?”\n\nIn spite of their fairly large ranges\, all over Africa\, you will be met with a headshake… and  a … “very difficult” – reply.\n\nThere is however one area that is very good for Aardvark – the pig-like anteater with long upright rabbit ears.  It is close to Kimberley\, half way between Johannesburg and Cape Town\, and hence mostly missed by South Africa visitors as being out of the way. Also Pangolin is sometimes seen here.\n\nKimberley is served with regular flights from both Cape Town and Johannesburg\, so it makes a perfect 7 Wonders Birding Tour for five days. Half that time will be spent in Mokala National Park and the other half at the Marrick private reserve with superb birding and wildlife watching. \nCheck out the detailed itinerary here.
URL:https://7wondersbirding.com/calendar-tours/aardvark-bat-eared-fox-and-aardwolf-in-south-africa/
ATTACH;FMTTYPE=image/jpeg:https://7wondersbirding.com/wp-content/uploads/2021/10/WhatsApp-Image-2021-10-26-at-08.45.16.jpeg
END:VEVENT
BEGIN:VEVENT
DTSTART;VALUE=DATE:20240406
DTEND;VALUE=DATE:20240414
DTSTAMP:20260425T085236
CREATED:20200326T192733Z
LAST-MODIFIED:20230321T192608Z
UID:3749-1712361600-1713052799@7wondersbirding.com
SUMMARY:Birding Ancient Egypt with Petra Extension
DESCRIPTION:The only still standing of the classic 7 Wonders are the pyramids of Giza which includes the Cheops pyramid and the Sphinx. Egypt has to be included in a 7 Wonders Birding tour. Additionally\, the marvelous Cairo Museum\, the valley of the Kings\, Luxor\, Aswan\, and Abu Simbel\, plus a cruise on the Nile are must-sees for bucket-listers around the world. If the non-birding spouse has been on your back about that trip to Egypt give him/her this itinerary. Jam-packed with all the best sites\, plus a lot of birding for species like Pharaoh Eagle-Owl\, Greater Painted Snipe\, Nile Valley Sunbird\, White-tailed Lapwing\, African Skimmer\, Sooty Falcon\, Cream-colored Courser and Greater Hoopoe-Lark. \nThe extension to Petra\, one of the New 7 Wonders\, also gives some birding possibilities with Sinai Rosefinch\, Palestine Sunbird\, and Fan-tailed Raven as key species.\nCheck out the full itinerary on the tour page.
URL:https://7wondersbirding.com/calendar-tours/birding-ancient-egypt-with-petra-extension/
ATTACH;FMTTYPE=image/jpeg:https://7wondersbirding.com/wp-content/uploads/2020/03/ED896C6A-C043-47BB-A8DF-1B5D2FA26F58-1.jpg
END:VEVENT
BEGIN:VEVENT
DTSTART;VALUE=DATE:20240215
DTEND;VALUE=DATE:20240223
DTSTAMP:20260425T085236
CREATED:20190123T191030Z
LAST-MODIFIED:20231227T164639Z
UID:2586-1707955200-1708646399@7wondersbirding.com
SUMMARY:Birding Tasmania - Tasmanian Devil\, Platypus and Birds (longer small group itinerary)
DESCRIPTION:Even if you are a birder\, when you think of Australia\, you think of marsupial mammals\, right? The first time it crossed your mind that you wanted to go to Australia to see all these wonders\, you probably also thought of a country so large that you would need to buy or rent a camper van and spend some 3-6 months to see everything properly. Years pass\, and it never happened… and now you have realized… that time is slipping by\, and that that road trip will likely never happen. If there was only a way to do Australia in less time. If there was a way to do Australia in\, like\, just a week and taking only 5 days off from work. \nWell\, there is one way to do it. Our tour involves 4 days in Tasmania in combination with a day in Melbourne. \n\n\n\n\n\n\n\n\n\n\n\n\n\n\n\n\n\n\n\n\n\n\n\nBucket list animals targeted on this trip. \n\nPlatypus\nTasmanian Devil\nLittle Penguin\nKoala\nGray Kangaroo\nShort-nosed Echidna\nRufous Bristlebird\n12 Endemic bird species for Tasmania.\nFairy-Wren species.\nRosellas\nLorikeets\nBlack Swan\n\nSee the detailed itinerary on this page.
URL:https://7wondersbirding.com/calendar-tours/birding-tasmania-tasmanian-devil-platypus-and-birds/
ATTACH;FMTTYPE=image/jpeg:https://7wondersbirding.com/wp-content/uploads/2019/01/tasmanian-devil-janusserendipity-6937374484-e1553544044349.jpg
END:VEVENT
BEGIN:VEVENT
DTSTART;VALUE=DATE:20231119
DTEND;VALUE=DATE:20231126
DTSTAMP:20260425T085236
CREATED:20221217T143036Z
LAST-MODIFIED:20221217T223651Z
UID:4971-1700352000-1700956799@7wondersbirding.com
SUMMARY:Essential Birding Madagascar!
DESCRIPTION:Madagascar is not known from having a large avifauna. Only just above 300 species. Yet\, over 100 of those are endemic. There are also a four unique bird families (the mesites\, ground-rollers\, asities and the Bernieridae ‘warblers’)\, plus two additional families (the vangas and cuckoo-rollers) that occur only on Madagascar and the nearby Comoro Islands. The purpose of this trip is to cover at least one member all those bird families in a week for those that have little time.\nWe shall also visit different biomes to get a fuller understanding of the topography of the island in this very short time. We will also offer pre and post tours for those with more time and who want a more complete list of the endemic species available.  \nThis tour can be very exhausting\, as we are up well before dawn\, and continue into the night. You can make this itinerary as intense as you want. During the heat of the day or in the afternoon\, many people prefer to take a nap or hang around the pool\, but you will also be offered additional birding to search for special birds. It is up to you. \nFind the complete itinerary on the here.
URL:https://7wondersbirding.com/calendar-tours/essential-birding-madagascar/
ATTACH;FMTTYPE=image/jpeg:https://7wondersbirding.com/wp-content/uploads/2022/04/Helmet-Vanga-Ken-Behrens.jpeg
END:VEVENT
BEGIN:VEVENT
DTSTART;VALUE=DATE:20230924
DTEND;VALUE=DATE:20231001
DTSTAMP:20260425T085236
CREATED:20190204T041851Z
LAST-MODIFIED:20230126T193211Z
UID:2732-1695513600-1696118399@7wondersbirding.com
SUMMARY:The Pantanal - Jaguar Safari and Hyacinth Macaw
DESCRIPTION:If you want to see the best mammals of the Amazon\, don’t go to the Amazon. Go to the Pantanal in Brazil! In the Amazon the eco-system is very complex\, closed by a lot of vegetation and the animals are scarce and hard to find. On the other hand\, in the open savanna of the Pantanal\, the animals have Amazon origin\, but are more plentiful and less concealed. Hence\, it is the best place to spot Jaguars\, Giant Otter\, Tapir\, Capibaras\, Howler Monkeys\, Caimans\, and even Maned Wolf and Ocelot sometimes. Additionally\, it is home to big iconic birds such as Jabiru Stork\, Toco Toucan\, Agami Heron\, Sunbittern\, Sungrebe\, Hoatzin\, and of course the gigantic vivid blue Hyacinth Macaws. This trip offers Amazonian Wildlife like no other area in South America.\nOur 7-day trip fits within two weekends\, so you in most cases can get to Sao Paulo and back to your own country only taking 5 days off from work. \nSee detailed itinerary in this link.
URL:https://7wondersbirding.com/calendar-tours/the-pantanal-jaguar-safari-and-hyacinth-macaw/
ATTACH;FMTTYPE=image/jpeg:https://7wondersbirding.com/wp-content/uploads/2019/01/Jaguar.jpg
END:VEVENT
BEGIN:VEVENT
DTSTART;VALUE=DATE:20230502
DTEND;VALUE=DATE:20230507
DTSTAMP:20260425T085236
CREATED:20191229T072726Z
LAST-MODIFIED:20220413T050128Z
UID:3493-1682985600-1683417599@7wondersbirding.com
SUMMARY:Culture and Birding in Rome
DESCRIPTION:The eternal city of Rome is a must visit. Sure\, the Coliseum was awarded one of the ‘new’ 7 wonders \, but Rome is so much more. Even the three full day we have in the city does not allow to see everything\, but you will get the most essential. What is less known is that there is surprisingly good birding to done not far from Rome. The birding part of this trip targets Rock Partridge a European endemic\, Brown Bear\, Yelkouan Shearater and Scopoli’s Shearwater.\nIt is important to book early to be able to secure the time slots for the cultural sites. We limit this pilot trip to max 6 people.\nIt is possibly to add a pretour to Tuscany and Comacchio for more culture and birdwatching.
URL:https://7wondersbirding.com/calendar-tours/culture-and-birding-in-rome/
ATTACH;FMTTYPE=image/jpeg:https://7wondersbirding.com/wp-content/uploads/2019/12/1280px-Colosseum_in_Rome_Italy_-_April_2007.jpg
END:VEVENT
BEGIN:VEVENT
DTSTART;VALUE=DATE:20221018
DTEND;VALUE=DATE:20221023
DTSTAMP:20260425T085236
CREATED:20200114T223829Z
LAST-MODIFIED:20220413T045827Z
UID:3547-1666051200-1666483199@7wondersbirding.com
SUMMARY:Birding in Rio de Janeiro and Iguazu Falls
DESCRIPTION:In the worldwide internet campaign for the new 7 wonders of the world\, there was a massive popular promotion within Brazil (4th largest population in the world with 200 million inhabitants) to vote for Christ the Redeemer in Rio de Janeiro and hence it made the list.\nHence it got more votes than other candidates such as Angkor Wat in Cambodia\, La Alhambra in Spain\, or the Eiffel Tower in Paris.  \nRegardless\, Rio de Janeiro is a natural wonder of its own kind and perhaps the most beautifully located big city in the world.  The shape of the Sugarloaf and Corcovado are iconic. Hence\, Rio de Janeiro is on many people’s bucket lists. It was also named as one of the top 7 Natural Wonder of the World by CNN.  \nSo what is in it for the birder? There is surprisingly good birding at the Botanical Garden\, which will be visited one morning and in the Tijuca National Park where Corcovado and the Christ statue is situated. So with local expertise\, we shall be able to enjoy to see all major Rio sights\, but also a great number of birds. \nCheck out the detailed itinerary. \nSerious birders should look into the 3 day Rio de Janeiro State pre-trip\, which focuses on some of the most local birds in South America. \nAfter Rio\, we fly to another iconic place – the Iguazu Falls – situated on the border of Southern Brazil and Misiones of NE Argentina.  A spectacular natural wonder\, and while staying at very comfortable hotels\, we shall also do some excellent birding here.
URL:https://7wondersbirding.com/calendar-tours/birding-in-rio-de-janeiro-and-iguazu-falls/
ATTACH;FMTTYPE=image/jpeg:https://7wondersbirding.com/wp-content/uploads/2020/01/brazil-4673654_1920-1.jpg
END:VEVENT
BEGIN:VEVENT
DTSTART;VALUE=DATE:20221016
DTEND;VALUE=DATE:20221022
DTSTAMP:20260425T085236
CREATED:20190123T190330Z
LAST-MODIFIED:20220930T031533Z
UID:2582-1665878400-1666396799@7wondersbirding.com
SUMMARY:Iberian Lynx\, Alhambra and Raptor Bonanza
DESCRIPTION:Andalucia\, Spain is everything. It is birds\, mammals\, flamenco\, moorish heritage\, isolates sierra\, white painted villages\, gastronomy and wine.  Our bucket list for Southern Spain include.\n\n\n\n\nAlhambra – the beautiful palace of the last Caliph of Al Andaluz.\nGranada Mezquita\nIberian Lynx\nSpanish Imperial Eagle\nBee-Eater\nRoller\nLammergeier\nGolden Eagle\n\n\n\n\n\n\n\n\n\n\n\n\n\n\n\n\n\nCulture and wild nature entwined when we visit Sierras de Andujar\, Sierra Magina\, Cazorla\, Granada and Cordoba. \nCheck out this link for full description.
URL:https://7wondersbirding.com/calendar-tours/iberian-lynx-alhambra/
ATTACH;FMTTYPE=image/jpeg:https://7wondersbirding.com/wp-content/uploads/2019/01/Iberian-lynx_01.jpg
END:VEVENT
BEGIN:VEVENT
DTSTART;VALUE=DATE:20220911
DTEND;VALUE=DATE:20220919
DTSTAMP:20260425T085236
CREATED:20220106T204039Z
LAST-MODIFIED:20220106T204039Z
UID:4784-1662854400-1663545599@7wondersbirding.com
SUMMARY:Classic Birding & Bird Photography in South East Brazil
DESCRIPTION:This is a shorter version of our 11 day trip to SE Brazil\, and here we concentrate our efforts to visit great places for bird photography\, especially hummingbirds and tanagers. There is also good general birding. The idea was to create a trip one could do between two weekends and still get most of the SE Brazil endemics\, as well as get excellent opportunities for photographing birds. \nCheck out the full itinerary.
URL:https://7wondersbirding.com/calendar-tours/classic-birding-bird-photography-in-south-east-brazil-2/
ATTACH;FMTTYPE=image/jpeg:https://7wondersbirding.com/wp-content/uploads/2018/06/Brasil-7.jpg
END:VEVENT
BEGIN:VEVENT
DTSTART;VALUE=DATE:20220710
DTEND;VALUE=DATE:20220718
DTSTAMP:20260425T085236
CREATED:20220106T203644Z
LAST-MODIFIED:20220108T015900Z
UID:4779-1657411200-1658102399@7wondersbirding.com
SUMMARY:Classic Birding & Bird Photography in South East Brazil
DESCRIPTION:This is a shorter version of our 11 day trip to SE Brazil\, and here we concentrate our efforts to visit great places for bird photography\, especially hummingbirds and tanagers. There is also good general birding. The idea was to create a trip one could do between two weekends and still get most of the SE Brazil endemics\, as well as get excellent opportunities for photographing birds. \nCheck out the full itinerary.
URL:https://7wondersbirding.com/calendar-tours/classic-birding-bird-photography-in-south-east-brazil/
ATTACH;FMTTYPE=image/jpeg:https://7wondersbirding.com/wp-content/uploads/2018/06/Brasil-7.jpg
END:VEVENT
BEGIN:VEVENT
DTSTART;VALUE=DATE:20220703
DTEND;VALUE=DATE:20220710
DTSTAMP:20260425T085236
CREATED:20191228T004435Z
LAST-MODIFIED:20211030T233032Z
UID:3476-1656806400-1657411199@7wondersbirding.com
SUMMARY:The Pantanal - Jaguar Safari and Hyacinth Macaw
DESCRIPTION:If you want to see the best mammals of the Amazon\, don’t go to the Amazon. Go to the Pantanal in Brazil! In the Amazon the eco-system is very complex\, closed by a lot of vegetation and the animals are scarce and hard to find. On the other hand\, in the open savanna of the Pantanal\, the animals have Amazon origin\, but are more plentiful and less concealed. Hence\, it is the best place to spot Jaguars\, Giant Otter\, Tapir\, Capibaras\, Howler Monkeys\, Caimans\, and even Maned Wolf and Ocelot sometimes. Additionally\, it is home to big iconic birds such as Jabiru Stork\, Toco Toucan\, Agami Heron\, Sunbittern\, Sungrebe\, Hoatzin\, and of course the gigantic vivid blue Hyacinth Macaws. This trip offers Amazonian Wildlife like no other area in South America.\nOur 7-day trip fits within two weekends\, so you in most cases can get to Sao Paulo and back to your own country only taking 5 days off from work.
URL:https://7wondersbirding.com/calendar-tours/the-pantanal-jaguar-safari-and-hyacinth-macaw-2/
ATTACH;FMTTYPE=image/jpeg:https://7wondersbirding.com/wp-content/uploads/2019/01/Jaguar.jpg
END:VEVENT
BEGIN:VEVENT
DTSTART;VALUE=DATE:20220628
DTEND;VALUE=DATE:20220703
DTSTAMP:20260425T085236
CREATED:20200622T174548Z
LAST-MODIFIED:20211112T135321Z
UID:3942-1656374400-1656806399@7wondersbirding.com
SUMMARY:Birding in Rio de Janeiro and Iguazu Falls
DESCRIPTION:In the worldwide internet campaign for the new 7 wonders of the world\, there was a massive popular promotion within Brazil (4th largest population in the world with 200 million inhabitants) to vote for Christ the Redeemer in Rio de Janeiro and hence it made the list.\nHence\, it got more votes than other candidates such as Angkor Wat in Cambodia\, La Alhambra in Spain\, or the Eiffel Tower in Paris.  \nRegardless\, Rio de Janeiro is a natural wonder of its own kind and perhaps the most beautifully located big city in the world.  The shape of the Sugarloaf and Corcovado are iconic. Hence\, Rio de Janeiro is on many people’s bucket lists. It was also named as one of the top 7 Natural Wonder of the World by CNN.  \nSo what is in it for the birder? There is surprisingly good birding at the Botanical Garden\, which will be visited one morning and in the Tijuca National Park where Corcovado and the Christ statue is situated. So with local expertise\, we shall be able to enjoy to see all major Rio sights\, but also a great number of birds. \nSerious birders should look into the 3 day Rio de Janeiro State pre-trip\, which focuses on some of the most local birds in South America. \nAfter Rio\, we fly to another iconic place – the Iguazu Falls – situated on the border of Southern Brazil and Misiones of NE Argentina.  A spectacular natural wonder\, and while staying at very comfortable hotels\, we shall also do some excellent birding here.
URL:https://7wondersbirding.com/calendar-tours/birding-in-rio-de-janeiro-and-iguazu-falls-3/
ATTACH;FMTTYPE=image/jpeg:https://7wondersbirding.com/wp-content/uploads/2020/01/brazil-4673654_1920-1.jpg
END:VEVENT
BEGIN:VEVENT
DTSTART;VALUE=DATE:20220326
DTEND;VALUE=DATE:20220403
DTSTAMP:20260425T085236
CREATED:20190123T184407Z
LAST-MODIFIED:20211112T025831Z
UID:2570-1648252800-1648943999@7wondersbirding.com
SUMMARY:Birding Yucatan and Mayan History
DESCRIPTION:Yucatan: Birding in Maya Country.\n\n\n\n\n\n\n\n\n\n\n\n\n\n\n\n\n\nFew places in the Americas showcase natural beauty and pre-Columbian history like the Yucatan. Boasting an impressive 578 species of birds\,14 of which are endemic or near endemic\, the Yucatan also is known for the impressive Mayan monuments of Chichen Itza and Calakmul. \nYou will visit the flamingos of Rio Lagartos\, the island endemics of Cozumel\, get most if not all the Yucatan endemics as well as good chance of both Ocellated Turkey and Great Curassow. You will learn about Mayan history and culture\, and you’ll try the exiting Mexican cuisine and perhaps one or two Margaritas!
URL:https://7wondersbirding.com/calendar-tours/birding-yucatan-and-mayan-history/
ATTACH;FMTTYPE=image/jpeg:https://7wondersbirding.com/wp-content/uploads/2019/01/insideindianjungles.jpg
END:VEVENT
BEGIN:VEVENT
DTSTART;VALUE=DATE:20220321
DTEND;VALUE=DATE:20220326
DTSTAMP:20260425T085236
CREATED:20190123T184908Z
LAST-MODIFIED:20211112T025737Z
UID:2574-1647820800-1648252799@7wondersbirding.com
SUMMARY:Birding in Guatemala and Mayan History
DESCRIPTION:Horned Guan and Pink-headed Warbler are two Central American top target birds that can either be seen at the classical Triunfo site in Chiapas. Mexico\, or traditionally on a rather tough climb up the a volcano in Guatemala. However\, in this program a new site is presented which gets both species on the same day with minimal necessary walking. It is a 30 min walk. \nA trip to Guatemala would not be complete without a visit to the famous Maya ruins of Tikal\, which incidentally is one of the best birding spots in the world within an archaeological compound\, with top targets like Great Curassow\, Ocellated Turkey and Orange-breasted Falcon relatively easy. You shall have plenty of time to both see the birds and the ruins well with expert guiding in both birds and archeology. \nThe tour lasts 5 days. Contact us for ideas\, if you would like to make a longer trip in Central America or Mexico in combination.
URL:https://7wondersbirding.com/calendar-tours/birding-in-guatemala-and-mayan-history/
ATTACH;FMTTYPE=image/jpeg:https://7wondersbirding.com/wp-content/uploads/2019/01/Horned-Guan.jpg
END:VEVENT
BEGIN:VEVENT
DTSTART;VALUE=DATE:20211227
DTEND;VALUE=DATE:20220101
DTSTAMP:20260425T085236
CREATED:20211025T235544Z
LAST-MODIFIED:20211026T001607Z
UID:4518-1640563200-1640995199@7wondersbirding.com
SUMMARY:India: Birding\, Tigers and Taj Mahal
DESCRIPTION:This is India!\n\n\n\n\n\nIt is amazing how much India you will see on this short tour that includes Tiger Safari in Ranthambore National park\, one of the most impressive wetlands in the world at Keoladeo National Park next to Bharatpur\, Indian Skimmer and Gavial on the Chambal River and finally the beautiful mausoleum Taj Mahal. \nCheck out the detailed program here.
URL:https://7wondersbirding.com/calendar-tours/india-birding-tigers-and-taj-mahal-3/
ATTACH;FMTTYPE=image/jpeg:https://7wondersbirding.com/wp-content/uploads/2019/01/Tiger.jpg
END:VEVENT
BEGIN:VEVENT
DTSTART;VALUE=DATE:20211220
DTEND;VALUE=DATE:20211225
DTSTAMP:20260425T085236
CREATED:20211025T235306Z
LAST-MODIFIED:20211025T235445Z
UID:4145-1639958400-1640390399@7wondersbirding.com
SUMMARY:India: Birding\, Tigers and Taj Mahal
DESCRIPTION:This is India!\n\n\n\n\n\nIt is amazing how much India you will see on this short tour that includes Tiger Safari in Ranthambore National park\, one of the most impressive wetlands in the world at Keoladeo National Park next to Bharatpur\, Indian Skimmer and Gavial on the Chambal River and finally the beautiful mausoleum Taj Mahal. \nCheck out the detailed program here.
URL:https://7wondersbirding.com/calendar-tours/india-birding-tigers-and-taj-mahal/
ATTACH;FMTTYPE=image/jpeg:https://7wondersbirding.com/wp-content/uploads/2019/01/Tiger.jpg
END:VEVENT
BEGIN:VEVENT
DTSTART;VALUE=DATE:20211213
DTEND;VALUE=DATE:20211218
DTSTAMP:20260425T085236
CREATED:20200624T163703Z
LAST-MODIFIED:20211113T022500Z
UID:3979-1639353600-1639785599@7wondersbirding.com
SUMMARY:India: Birding\, Tigers and Taj Mahal
DESCRIPTION:This is India!\n\n\n\n\n\nIt is amazing how much India you will see on this short tour that includes Tiger Safari in Ranthambore National park\, one of the most impressive wetlands in the world at Keoladeo National Park next to Bharatpur\, Indian Skimmer and Gavial on the Chambal River and finally the beautiful mausoleum Taj Mahal. \nCheck out the detailed program here.
URL:https://7wondersbirding.com/calendar-tours/india-birding-tigers-and-taj-mahal-2/
ATTACH;FMTTYPE=image/jpeg:https://7wondersbirding.com/wp-content/uploads/2019/01/Tiger.jpg
END:VEVENT
BEGIN:VEVENT
DTSTART;VALUE=DATE:20211012
DTEND;VALUE=DATE:20211017
DTSTAMP:20260425T085236
CREATED:20200624T161147Z
LAST-MODIFIED:20201218T194314Z
UID:3968-1633996800-1634428799@7wondersbirding.com
SUMMARY:Birding Holiday in Cambodia and Angkor Wat
DESCRIPTION:Birding Cambodia and Angkor Wat.\nThe fascinating Angkor Wat is the largest religious monument in the world\, built as a Hindu temple in the early 12th century\, but gradually transformed into a Buddhist Temple. It is the most important tourist attraction of Cambodia and obviously on many people’s bucket list. But there is also very good birding available nearby.\nOur tour to Cambodia focusing on the unique birds and especially a number of Critically Endangered species such as Giant Ibis\, White-shouldered Ibis\, and White-winged Duck. We run this tour in cooperation with Sam Veasna Center for Wildlife Conservation – the prime conservation organization in Cambodia with projects aiming to conserve the threatened birds. \nThe departure is just before the Asian Bird Fair which runs Nov 20-22\, 2021. After the Bird Fair\, there will be an extension Nov 23-26 to hike Mt Aural in Cardamom Mountains for the endemic Cambodia Laughing-Thrush and several endemic subspecies.\nSee detailed itinerary clicking this link.
URL:https://7wondersbirding.com/calendar-tours/birding-holiday-in-cambodia-and-angkor-wat-2/
ATTACH;FMTTYPE=image/jpeg:https://7wondersbirding.com/wp-content/uploads/2020/01/ancient-angkor-angkor-wat-temples-architecture-1534056.jpg
END:VEVENT
BEGIN:VEVENT
DTSTART;VALUE=DATE:20210629
DTEND;VALUE=DATE:20210704
DTSTAMP:20260425T085236
CREATED:20200114T233310Z
LAST-MODIFIED:20200622T174747Z
UID:3552-1624924800-1625356799@7wondersbirding.com
SUMMARY:Birding in Rio de Janeiro and Iguazu Falls
DESCRIPTION:In the world wide internet campaign for the new 7 wonders of the world there was a massive popular campaign within Brazil (4th largest population in the world with 200 milion inhabitatant) to vote for Christ the Redeemer in Rio de Janeiro and hence it made the list.\nHence it got more votes than other candidates such as Angkor Wat in Cambodia\, La Alhambra in Spain\, or the Eifel Tower in Paris.  \nRegardless\, Rio de Janeiro is a natural wonder of its own kind and perhaps the most beautifully located big city in the world.  The shape of the Sugarloaf and Corcovado are iconic. Hence\, Rio de Janeiro is on many people’s bucket list. It was also named as one of the top 7 Natural Wonder of the World by CNN.  \nSo what is in it for the birder? There is surprisingly good birding at the Botanical Garden\, which will be visited one morning and in Tijuca National Park where Corcovado and the Christ statue is situated. So with local expertise we shall be able to enjoy to see all major Rio sights\, but also a great number of birds. \nSerious birders should look into the 3 day Rio de Janeiro State pretrip\, which focus on some of the most local birds in South America. \nAfter Rio\, we fly to another iconic place – the Iguazu Falls – situated on the border of Southern Brazil and Misiones of NE Argentina.  A spectacular natural wonder\, and while staying at very comfortable hotels\, we shall also do some excellent birding here.
URL:https://7wondersbirding.com/calendar-tours/birding-in-rio-de-janeiro-and-iguazu-falls-2/
ATTACH;FMTTYPE=image/jpeg:https://7wondersbirding.com/wp-content/uploads/2020/01/brazil-4673654_1920-1.jpg
END:VEVENT
BEGIN:VEVENT
DTSTART;VALUE=DATE:20210127
DTEND;VALUE=DATE:20210201
DTSTAMP:20260425T085236
CREATED:20201203T205143Z
LAST-MODIFIED:20201203T205143Z
UID:4150-1611705600-1612137599@7wondersbirding.com
SUMMARY:Peru: Machu Picchu and Abra Malaga: Inca Culture\, Condors and Endemics​
DESCRIPTION:Best birding in Peru with Machu Picchu!\n\n\n\n\n\nThe last few decades have seen Machu Picchu grow to be one of the world’s most popular bucket list destinations. In this top-end hotel program\, we give you a well-rounded tour that includes Machu Picchu and its history\, the Inca culture\, and some great birding at the Abra Malaga pass. Price is elevated because we stay at the best hotels for birders at Machu Picchu and Ollantaytambo – Machu Picchu Pueblo Hotel and Pakaritampu. Both have ample beautiful gardens that attract many birds\, and at Pueblo Hotel there are hummingbird and tanager feeders allowing for great photography. Of course\, this trip is just as exciting for the non-birding spouse or friend\, as it is for the birder in the family. \nSerious birders and photographers will have ample opportunity to connect with the region’s endemics and near endemics\, of which many are not found on Manu Road. So do join us for a visit to one of the new 7 wonders of the world and add some special bucket list birds to your list such as Condor\, Torrent Duck\, and Andean Cock of the Rock\, as well as many endemics of the region. The photography opportunities are excellent. \nCheck out the detailed program here.
URL:https://7wondersbirding.com/calendar-tours/peru-machu-picchu-and-abra-malaga-inca-culture-condors-and-endemics%e2%80%8b-2/
ATTACH;FMTTYPE=image/jpeg:https://7wondersbirding.com/wp-content/uploads/2020/12/machu-PICCHU0916.jpg
END:VEVENT
BEGIN:VEVENT
DTSTART;VALUE=DATE:20201129
DTEND;VALUE=DATE:20201205
DTSTAMP:20260425T085236
CREATED:20190807T033632Z
LAST-MODIFIED:20200624T163506Z
UID:3371-1606608000-1607126399@7wondersbirding.com
SUMMARY:China: Culture and Wildlife Exploration in Beijing and Xi’an.
DESCRIPTION:The absolute China essentials on your bucket list with Chinese Wall\, Terracotta Army\, and the Forbidden City\, plus some amazing birding and wildlife with Crested Ibis and Golden Stub-nosed Monkey. See the detailed itinerary on this page.
URL:https://7wondersbirding.com/calendar-tours/china-culture-and-wildlife-exploration-in-beijing-and-xian/
ATTACH;FMTTYPE=image/jpeg:https://7wondersbirding.com/wp-content/uploads/2019/04/1-slide-china-beijing-mutianyu-great-wall-pano.jpg
END:VEVENT
END:VCALENDAR