BEGIN:VCALENDAR
VERSION:2.0
PRODID:-//7 Wonders Birding Tours - ECPv6.15.20//NONSGML v1.0//EN
CALSCALE:GREGORIAN
METHOD:PUBLISH
X-WR-CALNAME:7 Wonders Birding Tours
X-ORIGINAL-URL:https://7wondersbirding.com
X-WR-CALDESC:Events for 7 Wonders Birding Tours
REFRESH-INTERVAL;VALUE=DURATION:PT1H
X-Robots-Tag:noindex
X-PUBLISHED-TTL:PT1H
BEGIN:VTIMEZONE
TZID:UTC
BEGIN:STANDARD
TZOFFSETFROM:+0000
TZOFFSETTO:+0000
TZNAME:UTC
DTSTART:20250101T000000
END:STANDARD
END:VTIMEZONE
BEGIN:VEVENT
DTSTART;VALUE=DATE:20261102
DTEND;VALUE=DATE:20261107
DTSTAMP:20260424T221140
CREATED:20211025T235951Z
LAST-MODIFIED:20260318T193339Z
UID:4521-1793577600-1794009599@7wondersbirding.com
SUMMARY:India: Birding\, Tigers and Taj Mahal
DESCRIPTION:This is India!\n\n\n\n\n\nIt is amazing how much India you will see on this short tour that includes Tiger Safari in Ranthambore National park\, one of the most impressive wetlands in the world at Keoladeo National Park next to Bharatpur\, Indian Skimmer and Gavial on the Chambal River and finally the beautiful mausoleum Taj Mahal. \nCheck out the detailed program here.
URL:https://7wondersbirding.com/calendar-tours/india-birding-tigers-and-taj-mahal-4/
ATTACH;FMTTYPE=image/jpeg:https://7wondersbirding.com/wp-content/uploads/2019/01/Tiger.jpg
END:VEVENT
END:VCALENDAR