BEGIN:VCALENDAR
VERSION:2.0
PRODID:-//7 Wonders Birding Tours - ECPv6.15.20//NONSGML v1.0//EN
CALSCALE:GREGORIAN
METHOD:PUBLISH
X-WR-CALNAME:7 Wonders Birding Tours
X-ORIGINAL-URL:https://7wondersbirding.com
X-WR-CALDESC:Events for 7 Wonders Birding Tours
REFRESH-INTERVAL;VALUE=DURATION:PT1H
X-Robots-Tag:noindex
X-PUBLISHED-TTL:PT1H
BEGIN:VTIMEZONE
TZID:Asia/Singapore
BEGIN:STANDARD
TZOFFSETFROM:+0800
TZOFFSETTO:+0800
TZNAME:+08
DTSTART:20250101T000000
END:STANDARD
END:VTIMEZONE
BEGIN:VEVENT
DTSTART;VALUE=DATE:20260922
DTEND;VALUE=DATE:20260927
DTSTAMP:20260424T173306
CREATED:20200427T114857Z
LAST-MODIFIED:20240720T225147Z
UID:3923-1790035200-1790467199@7wondersbirding.com
SUMMARY:Wild lowland Borneo: Orangutan\, Proboscis Monkey\, Pygmy Elephant\, Pittas and Hornbills
DESCRIPTION:Yes\, you can do Borneo in 5 days. Mammals such as Orangutan\, Proboscis Monkey\, and with luck Pygmy Elephant are the main targets\, as well as the Bornean Bristlehead\, which is the only endemic bird family in Borneo. We spend two nights at the exclusive Borneo Rainforest Lodge.\nAdditionally\, there will be loads of birds with Pittas\, Broadbills\, and Hornbills being particularly in focus.\nCheck the link for the itinerary and the pre-trip extension.
URL:https://7wondersbirding.com/calendar-tours/wild-lowland-borneo-orangutan-proboscis-monkey-pygmy-elephant-pittas-and-hornbills-2/
ATTACH;FMTTYPE=image/jpeg:https://7wondersbirding.com/wp-content/uploads/2019/03/Orangutang-PS-1.jpg
END:VEVENT
END:VCALENDAR