BEGIN:VCALENDAR
VERSION:2.0
PRODID:-//7 Wonders Birding Tours - ECPv6.15.20//NONSGML v1.0//EN
CALSCALE:GREGORIAN
METHOD:PUBLISH
X-WR-CALNAME:7 Wonders Birding Tours
X-ORIGINAL-URL:https://7wondersbirding.com
X-WR-CALDESC:Events for 7 Wonders Birding Tours
REFRESH-INTERVAL;VALUE=DURATION:PT1H
X-Robots-Tag:noindex
X-PUBLISHED-TTL:PT1H
BEGIN:VTIMEZONE
TZID:Europe/Madrid
BEGIN:DAYLIGHT
TZOFFSETFROM:+0100
TZOFFSETTO:+0200
TZNAME:CEST
DTSTART:20250330T010000
END:DAYLIGHT
BEGIN:STANDARD
TZOFFSETFROM:+0200
TZOFFSETTO:+0100
TZNAME:CET
DTSTART:20251026T010000
END:STANDARD
BEGIN:DAYLIGHT
TZOFFSETFROM:+0100
TZOFFSETTO:+0200
TZNAME:CEST
DTSTART:20260329T010000
END:DAYLIGHT
BEGIN:STANDARD
TZOFFSETFROM:+0200
TZOFFSETTO:+0100
TZNAME:CET
DTSTART:20261025T010000
END:STANDARD
BEGIN:DAYLIGHT
TZOFFSETFROM:+0100
TZOFFSETTO:+0200
TZNAME:CEST
DTSTART:20270328T010000
END:DAYLIGHT
BEGIN:STANDARD
TZOFFSETFROM:+0200
TZOFFSETTO:+0100
TZNAME:CET
DTSTART:20271031T010000
END:STANDARD
END:VTIMEZONE
BEGIN:VEVENT
DTSTART;VALUE=DATE:20260406
DTEND;VALUE=DATE:20260413
DTSTAMP:20260424T115839
CREATED:20220314T030942Z
LAST-MODIFIED:20251129T225740Z
UID:4827-1775433600-1776038399@7wondersbirding.com
SUMMARY:Iberian Lynx\, Alhambra and Raptor Bonanza
DESCRIPTION:Andalucia\, Spain is everything. It is birds\, mammals\, flamenco\, moorish heritage\, isolated sierras\, white painted villages\, gastronomy and wine.  Our bucket list for Southern Spain include.\n\n\n\n\nAlhambra – the beautiful palace of the last Caliph of Al Andaluz.\nGranada Mezquita\nIberian Lynx\nSpanish Imperial Eagle\nBee-Eater\nRoller\nLammergeier\nGolden Eagle\n\n\n\n\n\n\n\n\n\n\n\n\n\nCulture and wild nature are entwined when visiting the Sierras de Andujar\, Sierra Magina\, Cazorla\, Granada\, and Cordoba. \nCheck out this link for full description.
URL:https://7wondersbirding.com/calendar-tours/iberian-lynx-alhambra-and-raptor-bonanza/
ATTACH;FMTTYPE=image/jpeg:https://7wondersbirding.com/wp-content/uploads/2019/01/Iberian-lynx_01.jpg
END:VEVENT
END:VCALENDAR