BEGIN:VCALENDAR
VERSION:2.0
PRODID:-//7 Wonders Birding Tours - ECPv6.15.20//NONSGML v1.0//EN
CALSCALE:GREGORIAN
METHOD:PUBLISH
X-ORIGINAL-URL:https://7wondersbirding.com
X-WR-CALDESC:Events for 7 Wonders Birding Tours
REFRESH-INTERVAL;VALUE=DURATION:PT1H
X-Robots-Tag:noindex
X-PUBLISHED-TTL:PT1H
BEGIN:VTIMEZONE
TZID:Australia/Sydney
BEGIN:STANDARD
TZOFFSETFROM:+1100
TZOFFSETTO:+1000
TZNAME:AEST
DTSTART:20250405T160000
END:STANDARD
BEGIN:DAYLIGHT
TZOFFSETFROM:+1000
TZOFFSETTO:+1100
TZNAME:AEDT
DTSTART:20251004T160000
END:DAYLIGHT
BEGIN:STANDARD
TZOFFSETFROM:+1100
TZOFFSETTO:+1000
TZNAME:AEST
DTSTART:20260404T160000
END:STANDARD
BEGIN:DAYLIGHT
TZOFFSETFROM:+1000
TZOFFSETTO:+1100
TZNAME:AEDT
DTSTART:20261003T160000
END:DAYLIGHT
BEGIN:STANDARD
TZOFFSETFROM:+1100
TZOFFSETTO:+1000
TZNAME:AEST
DTSTART:20270403T160000
END:STANDARD
BEGIN:DAYLIGHT
TZOFFSETFROM:+1000
TZOFFSETTO:+1100
TZNAME:AEDT
DTSTART:20271002T160000
END:DAYLIGHT
END:VTIMEZONE
BEGIN:VEVENT
DTSTART;VALUE=DATE:20260116
DTEND;VALUE=DATE:20260122
DTSTAMP:20260424T161427
CREATED:20200715T211354Z
LAST-MODIFIED:20240720T213137Z
UID:4054-1768521600-1769039999@7wondersbirding.com
SUMMARY:East Australian bird families. Cassowary and Lyrebirds.
DESCRIPTION:Eastern Australia with the Great Dividing Range gives the best birding with the highest diversity of the continent\, as one can access both the coastal lowlands and the highlands\, as well as a short sidetrip to the plains of the west. \nWe are setting off for five very intense days in three areas. Two days from Cairns\, two days from Brisbane and one day from Sydney\,. \nDuring these five days\, there shall be owling sessions on two of the days with 12 hours birding. \nOn the other hand\, if you consider to join us for 12 or 14 days in Australia\, you should know that the 2 day pre-trip is very relaxed\, the main Tasmania/Melbourne trip also quite slow-paced and ending with the last two days with intense birding to try to find Plainswanderer \nHere are the goals set up for this tour. \n\nSee as many endemic and close to endemic bird families as possible.\nSee and photograph iconic birds such as Southern Cassowary\, Riflebird (Bird of Paradise)\, Bowerbirds\, Apostlebird\, Crested Honeyeaters\, Fairy-wrens\, various colorful Cacatuas\, Parrots and Rosellas\, Lyrebird\, Gray-crowned Babbler\, Australian Owlet-Nightjar\, Logrunner\, White-throated Treecreeper\, Rufous Scrubbird\, Yellow-breasted Boatbill\, White-winged Chough and many more.\nTwo nights of night birding\nSelfie at Sydney Opera House.\n\nAll this in only 5 days. Lots of bang for the buck. \nAlthough the birding is easy\, it is quite an intense tour with long days. It could lay your base for a fast introduction to Australian Birds and later you can explore on your own\, or you may want to add the Tasmania program to maximize your time in Australia. \nThe 2-day pre-tour focuses on the Great Barrier Reef for snorkeling and some introductory typical Australian Bird-families representatives with Magpie Goose\, Megapodes\, many Honeyeaters\, and Cockatoos\, as well as many shorebirds.\nCheck out the itinerary here.
URL:https://7wondersbirding.com/calendar-tours/east-australian-bird-families-cassowary-and-lyrebirds/
ATTACH;FMTTYPE=image/jpeg:https://7wondersbirding.com/wp-content/uploads/2020/07/RKG07926-Victorias-Riflebird-Ptiloris-victoriae-cropped.jpeg
END:VEVENT
END:VCALENDAR