BEGIN:VCALENDAR
VERSION:2.0
PRODID:-//7 Wonders Birding Tours - ECPv6.15.20//NONSGML v1.0//EN
CALSCALE:GREGORIAN
METHOD:PUBLISH
X-WR-CALNAME:7 Wonders Birding Tours
X-ORIGINAL-URL:https://7wondersbirding.com
X-WR-CALDESC:Events for 7 Wonders Birding Tours
REFRESH-INTERVAL;VALUE=DURATION:PT1H
X-Robots-Tag:noindex
X-PUBLISHED-TTL:PT1H
BEGIN:VTIMEZONE
TZID:UTC
BEGIN:STANDARD
TZOFFSETFROM:+0000
TZOFFSETTO:+0000
TZNAME:UTC
DTSTART:20240101T000000
END:STANDARD
END:VTIMEZONE
BEGIN:VTIMEZONE
TZID:America/Lima
BEGIN:STANDARD
TZOFFSETFROM:-0500
TZOFFSETTO:-0500
TZNAME:-05
DTSTART:20250101T000000
END:STANDARD
END:VTIMEZONE
BEGIN:VEVENT
DTSTART;VALUE=DATE:20251225
DTEND;VALUE=DATE:20260106
DTSTAMP:20260424T161003
CREATED:20190605T150116Z
LAST-MODIFIED:20251024T130718Z
UID:3958-1766620800-1767657599@7wondersbirding.com
SUMMARY:Birding and Buddhism in the Kingdom of Bhutan
DESCRIPTION:Birding and Buddhism in the Kingdom of Bhutan​\nBhutan has been protected by both its isolation within the Himalayas and the topography of its mountainous land\, resulting in over 70% of the land remaining forested\, with approximately 25% protected by 10 National Parks. The diverse range of environments varies from sub-tropical at 150m to alpine over 4\,000 m\, supports a natural habitat\, and a wide range of ecosystems with rich and varied bird-life\, flora\, and fauna. \nOur 7WB leader will have the help of a Bhutanese local expert guide who is an accredited naturalist and birder who will ensure that your trip through this varied and beautiful landscape is full of birding excellence. \nThe tour begins in India and ends in Paro in western Bhutan. \nThere are 680 species of birds in Bhutan\, and we will help you discover as many of them as time allows. Check the detailed itinerary for more information.
URL:https://7wondersbirding.com/calendar-tours/birding-and-buddhism-in-the-kingdom-of-bhutan-1/
ATTACH;FMTTYPE=image/jpeg:https://7wondersbirding.com/wp-content/uploads/2019/01/fixedw_large_4x.jpg
END:VEVENT
BEGIN:VEVENT
DTSTART;VALUE=DATE:20260105
DTEND;VALUE=DATE:20260110
DTSTAMP:20260424T161003
CREATED:20200626T023958Z
LAST-MODIFIED:20240705T080425Z
UID:4003-1767571200-1768003199@7wondersbirding.com
SUMMARY:Birding New Zealand - Bird families\, Maori culture and pelagics
DESCRIPTION:New Zealand is a fascinating country with its Maori culture\, scenic landscape of the Middle Earth in Lord of the Rings\, a paradise for seabirds and pelagic fans\, and a number of endemic bird families of truly unique birds\, many of them threatened of extinction. \n7 Wonders Birding offers two short trips that run back to back. The first part is on North Island and the second part on South Island. The focus of the two tours are a bit different. Both programs include a large amount of driving\, but it is helped by the many hours of daylight in the Southern summer.\nThis North Island Program focuses on these specific goals: \n\nSee at least one representative of each of the six endemic bird families. They include Kiwis (North Island Brown and Little Spotted are possible)\, New Zealand Parrots (Kaka)\, New Zealand Wrens (Rifleman)\, Wattlebirds (Kokako and Saddleback)\, the Stitchbird and the new Mohouidae family (Whitehead).\nSee recently rediscovered New Zealand Storm-Petrel on a top NZ pelagic\nSee threatened and very local Shore Plover\nSee the peculiar Wrybill\nSee the torrent loving and threatened Blue Duck\nGet familiarized with the Maori culture.\n\nAll this in only 5 days. Lot’s of bang for the buck. \nAlthough the birding is easy\, it is quite an intense tour with long days. It could lay your base for a fast introduction to New Zealand and later you can explore on your own\, or you may want to add the South Island program to maximize your time in New Zealand. \nMany tours to New Zealand run in 21 days and cost over US$8000. In just 10 days we see 80-90% of the same birds at roughly half the price. \nThe South Island 5 day extension program is more focused on some iconic birds like the Kakapo and Black Stilt\, the Kaikoura pelagic\, and a visit to Stewart Island. \nCheck out the detailed description here.
URL:https://7wondersbirding.com/calendar-tours/birding-new-zealand-bird-families-maori-culture-and-pelagics/
ATTACH;FMTTYPE=image/jpeg:https://7wondersbirding.com/wp-content/uploads/2020/06/1024px-Blue_duck_whio._Hymenolaimus_malacorhynchos_24080107077.jpg
END:VEVENT
END:VCALENDAR